BEGIN:VCALENDAR
VERSION:2.0
PRODID:-//eventon.com NONSGML v1.0//EN
CALSCALE:GREGORIAN
METHOD:PUBLISH
BEGIN:VEVENT
UID:69ea26a2c9c12
DTSTAMP:20260423T160314
DTSTART:20220120T230000Z
DTEND:20220121T000000Z
TZID:Pacific/Midway
LOCATION:https://register.gotowebinar.com/register/2353142220278927376
SUMMARY:Webinar M&B Avocats
DESCRIPTION: Jeudi 20.01.2022 &#8211; 12H00 &#8211; #Webinar COCEF &#8211; M&amp;B Avocats / M&amp;B Abogados : « #Télétravail et crise sanitaire : dernières évolutions » Format du webinaire : 📍 Intervention (d&rsquo;environ 40 minutes) de :Me. Elodie Loriaud et Me. Coline Montangerand Naneix &#8211; M&amp;B Avocats / M&amp;B AbogadosAu programme :&#8211; L’évolution du télétravail&#8211; Les[..]\nhttps://cocef.com/fr/events/webinar-mb-avocats/var/event_access
URL:https://cocef.com/fr/events/webinar-mb-avocats/var/event_access
END:VEVENT
END:VCALENDAR