BEGIN:VCALENDAR
VERSION:2.0
PRODID:-//eventon.com NONSGML v1.0//EN
CALSCALE:GREGORIAN
METHOD:PUBLISH
BEGIN:VEVENT
UID:69ea0e69a0c01
DTSTAMP:20260423T141953
DTSTART:20220226T110000Z
DTEND:20220226T130000Z
TZID:Europe/Paris
LOCATION:
SUMMARY:Présentation Silbon
DESCRIPTION: Retrouvez-nous le samedi 26 février de 12h à 14h au sein de la boutique parisienne de notre membre Silbon! Nous vous convions pour un apéritif ibérique autour d&rsquo;une présentation de leur Nouvelle Collection Tailoring printemps &#8211; été 2022 Nous serions ravis de compter sur votre présence (à confirmer impérativement par[..]\nhttps://cocef.com/fr/events/presentacion-silbon/
URL:https://cocef.com/fr/events/presentacion-silbon/
END:VEVENT
END:VCALENDAR