BEGIN:VCALENDAR
VERSION:2.0
PRODID:-//eventon.com NONSGML v1.0//EN
CALSCALE:GREGORIAN
METHOD:PUBLISH
BEGIN:VEVENT
UID:69e9f64304c24
DTSTAMP:20260423T123651
DTSTART:20220226T110000Z
DTEND:20220226T130000Z
TZID:Europe/Paris
LOCATION:
SUMMARY:Presentación Silbon
DESCRIPTION: Réunase con nosotros el sábado 26 de febrero de 12h a 14h en la tienda parisina de nuestro miembro Silbon Venga a descubrir la nueva Colección Tailoring primavera &#8211; verano 2022 junto con un aperitivo ibérico. Confirme su presencia por email a : communication@cocef.com Boutique Silbon &#8211; 14 rue de[..]\nhttps://cocef.com/es/events/evento-silbon/
URL:https://cocef.com/es/events/evento-silbon/
END:VEVENT
END:VCALENDAR