BEGIN:VCALENDAR
VERSION:2.0
PRODID:-//eventon.com NONSGML v1.0//EN
CALSCALE:GREGORIAN
METHOD:PUBLISH
BEGIN:VEVENT
UID:69e9b83c4460f
DTSTAMP:20260423T081212
DTSTART:20220329T163000Z
DTEND:20220329T193000Z
TZID:Europe/Paris
LOCATION:
SUMMARY:Club Hispania - Hotel Meliá Villa Marquis
DESCRIPTION: Date : Le mardi 29 marsHoraire : de 18h30 à 21h30Lieu : Hôtel Meliá Paris Villa Marquis Adresse : 35 rue Jean Goujon\,  75008 Paris Retrouvez-nous le mardi 29 mars dans un cadre décontracté chic pour la reprise de notre fameux Club Hispania\,  afterwork franco-espagnol COCEF.\nhttps://cocef.com/fr/events/club-hispania-melia/
URL:https://cocef.com/fr/events/club-hispania-melia/
END:VEVENT
END:VCALENDAR