BEGIN:VCALENDAR
VERSION:2.0
PRODID:-//eventon.com NONSGML v1.0//EN
CALSCALE:GREGORIAN
METHOD:PUBLISH
BEGIN:VEVENT
UID:69e9cb698f9fb
DTSTAMP:20260423T093401
DTSTART:20220330T053000Z
DTEND:20220330T083000Z
TZID:Pacific/Midway
LOCATION:
SUMMARY:Club Hispania - Hotel Meliá Villa Marquis
DESCRIPTION: Fecha: martes 29 de marzoHora: de 18h30 a 21h30Lugar : Hotel Meliá Villa Marquis Dirección : 35 rue Jean Goujon\,  75008 Paris Encuéntrenos en el afterwork franco-español Club Hispania el próximo martes 29 de marzo.\nhttps://cocef.com/es/events/club-hispania-melia-2/
URL:https://cocef.com/es/events/club-hispania-melia-2/
END:VEVENT
END:VCALENDAR